BEGIN:VCALENDAR
VERSION:2.0
PRODID:-//fcforward - ECPv6.15.17//NONSGML v1.0//EN
CALSCALE:GREGORIAN
METHOD:PUBLISH
X-ORIGINAL-URL:https://fcforward.ch
X-WR-CALDESC:Évènements pour fcforward
REFRESH-INTERVAL;VALUE=DURATION:PT1H
X-Robots-Tag:noindex
X-PUBLISHED-TTL:PT1H
BEGIN:VTIMEZONE
TZID:Europe/Zurich
BEGIN:DAYLIGHT
TZOFFSETFROM:+0100
TZOFFSETTO:+0200
TZNAME:CEST
DTSTART:20230326T010000
END:DAYLIGHT
BEGIN:STANDARD
TZOFFSETFROM:+0200
TZOFFSETTO:+0100
TZNAME:CET
DTSTART:20231029T010000
END:STANDARD
BEGIN:DAYLIGHT
TZOFFSETFROM:+0100
TZOFFSETTO:+0200
TZNAME:CEST
DTSTART:20240331T010000
END:DAYLIGHT
BEGIN:STANDARD
TZOFFSETFROM:+0200
TZOFFSETTO:+0100
TZNAME:CET
DTSTART:20241027T010000
END:STANDARD
BEGIN:DAYLIGHT
TZOFFSETFROM:+0100
TZOFFSETTO:+0200
TZNAME:CEST
DTSTART:20250330T010000
END:DAYLIGHT
BEGIN:STANDARD
TZOFFSETFROM:+0200
TZOFFSETTO:+0100
TZNAME:CET
DTSTART:20251026T010000
END:STANDARD
END:VTIMEZONE
BEGIN:VEVENT
DTSTART;VALUE=DATE:20240706
DTEND;VALUE=DATE:20240707
DTSTAMP:20260420T233627
CREATED:20240129T093725Z
LAST-MODIFIED:20240129T093725Z
UID:2640-1720224000-1720310399@fcforward.ch
SUMMARY:TOURNOI INTERNE
DESCRIPTION:Tournoi interne du Forward Morges
URL:https://fcforward.ch/event/tournoi-interne/
LOCATION:Parc des Sports\, Prom. Général Guisan 12\, Morges\, Vaud\, 1110\, Suisse
CATEGORIES:CALENDRIER MANIFESTATIONS
END:VEVENT
BEGIN:VEVENT
DTSTART;TZID=Europe/Zurich:20240709T200000
DTEND;TZID=Europe/Zurich:20240710T233000
DTSTAMP:20260420T233627
CREATED:20240129T093826Z
LAST-MODIFIED:20240129T093826Z
UID:2642-1720555200-1720654200@fcforward.ch
SUMMARY:EURO 2024
DESCRIPTION:Phase finale de l’euro 2024
URL:https://fcforward.ch/event/euro-2024-2/
LOCATION:Parc des Sports\, Prom. Général Guisan 12\, Morges\, Vaud\, 1110\, Suisse
CATEGORIES:CALENDRIER MANIFESTATIONS
END:VEVENT
END:VCALENDAR