BEGIN:VCALENDAR
VERSION:2.0
PRODID:-//fcforward - ECPv6.15.17//NONSGML v1.0//EN
CALSCALE:GREGORIAN
METHOD:PUBLISH
X-WR-CALNAME:fcforward
X-ORIGINAL-URL:https://fcforward.ch
X-WR-CALDESC:Évènements pour fcforward
REFRESH-INTERVAL;VALUE=DURATION:PT1H
X-Robots-Tag:noindex
X-PUBLISHED-TTL:PT1H
BEGIN:VTIMEZONE
TZID:Europe/Amsterdam
BEGIN:DAYLIGHT
TZOFFSETFROM:+0100
TZOFFSETTO:+0200
TZNAME:CEST
DTSTART:20230326T010000
END:DAYLIGHT
BEGIN:STANDARD
TZOFFSETFROM:+0200
TZOFFSETTO:+0100
TZNAME:CET
DTSTART:20231029T010000
END:STANDARD
BEGIN:DAYLIGHT
TZOFFSETFROM:+0100
TZOFFSETTO:+0200
TZNAME:CEST
DTSTART:20240331T010000
END:DAYLIGHT
BEGIN:STANDARD
TZOFFSETFROM:+0200
TZOFFSETTO:+0100
TZNAME:CET
DTSTART:20241027T010000
END:STANDARD
BEGIN:DAYLIGHT
TZOFFSETFROM:+0100
TZOFFSETTO:+0200
TZNAME:CEST
DTSTART:20250330T010000
END:DAYLIGHT
BEGIN:STANDARD
TZOFFSETFROM:+0200
TZOFFSETTO:+0100
TZNAME:CET
DTSTART:20251026T010000
END:STANDARD
END:VTIMEZONE
BEGIN:VTIMEZONE
TZID:Europe/Zurich
BEGIN:DAYLIGHT
TZOFFSETFROM:+0100
TZOFFSETTO:+0200
TZNAME:CEST
DTSTART:20230326T010000
END:DAYLIGHT
BEGIN:STANDARD
TZOFFSETFROM:+0200
TZOFFSETTO:+0100
TZNAME:CET
DTSTART:20231029T010000
END:STANDARD
BEGIN:DAYLIGHT
TZOFFSETFROM:+0100
TZOFFSETTO:+0200
TZNAME:CEST
DTSTART:20240331T010000
END:DAYLIGHT
BEGIN:STANDARD
TZOFFSETFROM:+0200
TZOFFSETTO:+0100
TZNAME:CET
DTSTART:20241027T010000
END:STANDARD
BEGIN:DAYLIGHT
TZOFFSETFROM:+0100
TZOFFSETTO:+0200
TZNAME:CEST
DTSTART:20250330T010000
END:DAYLIGHT
BEGIN:STANDARD
TZOFFSETFROM:+0200
TZOFFSETTO:+0100
TZNAME:CET
DTSTART:20251026T010000
END:STANDARD
END:VTIMEZONE
BEGIN:VEVENT
DTSTART;TZID=Europe/Amsterdam:20240601T190000
DTEND;TZID=Europe/Amsterdam:20240601T210000
DTSTAMP:20260420T203004
CREATED:20240129T095622Z
LAST-MODIFIED:20240129T095957Z
UID:2689-1717268400-1717275600@fcforward.ch
SUMMARY:FC Genolier-Begnins I (2e) - FC Forward-Morges I (2e)
DESCRIPTION:championnat 2e ligue – Groupe  1\nN° match 109264\npas encore joué\nhttps://matchcenter.football.ch/?v=1104&lng=2
URL:https://fcforward.ch/event/fc-genolier-begnins-i-2e-fc-forward-morges-i-2e/
LOCATION:Terrain du Pesant d’Or\, Genolier – Terrain 1
CATEGORIES:CALENDRIER DE LA UNE
END:VEVENT
BEGIN:VEVENT
DTSTART;TZID=Europe/Amsterdam:20240602T133000
DTEND;TZID=Europe/Amsterdam:20240602T153000
DTSTAMP:20260420T203004
CREATED:20240129T095704Z
LAST-MODIFIED:20240129T095952Z
UID:2714-1717335000-1717342200@fcforward.ch
SUMMARY:FC Pied du Jura II (4e) - FC Forward-Morges II (4e)
DESCRIPTION:championnat 4e ligue – Groupe  2\nN° match 121533\nnouvelle date\nhttps://matchcenter.football.ch/?v=1104&lng=2
URL:https://fcforward.ch/event/fc-pied-du-jura-ii-4e-fc-forward-morges-ii-4e/
LOCATION:Terrain Les Planches à APPLES\, Apples – Terrain Communal Apples
CATEGORIES:CALENDRIER LA DEUX
END:VEVENT
BEGIN:VEVENT
DTSTART;TZID=Europe/Amsterdam:20240602T160000
DTEND;TZID=Europe/Amsterdam:20240602T180000
DTSTAMP:20260420T203004
CREATED:20240129T095750Z
LAST-MODIFIED:20240129T095946Z
UID:2736-1717344000-1717351200@fcforward.ch
SUMMARY:FC Vallée de Joux II (5e) - FC Forward-Morges III (5e)
DESCRIPTION:championnat 5e ligue – Groupe  1\nN° match 112013\npas encore joué\nhttps://matchcenter.football.ch/?v=1104&lng=2
URL:https://fcforward.ch/event/fc-vallee-de-joux-ii-5e-fc-forward-morges-iii-5e/
LOCATION:Terrain des Crêtets\, Le Sentier – Terrain principa\,l Le Crêtet
CATEGORIES:CALENDRIER LA TROIS
END:VEVENT
BEGIN:VEVENT
DTSTART;VALUE=DATE:20240608
DTEND;VALUE=DATE:20240609
DTSTAMP:20260420T203004
CREATED:20240129T093448Z
LAST-MODIFIED:20240129T093448Z
UID:2635-1717804800-1717891199@fcforward.ch
SUMMARY:GRAINE DE FOOT
DESCRIPTION:Tournoi Graine de foot
URL:https://fcforward.ch/event/graine-de-foot/
LOCATION:Parc des Sports\, Prom. Général Guisan 12\, Morges\, Vaud\, 1110\, Suisse
CATEGORIES:CALENDRIER MANIFESTATIONS
END:VEVENT
BEGIN:VEVENT
DTSTART;TZID=Europe/Zurich:20240614T163000
DTEND;TZID=Europe/Zurich:20240630T233000
DTSTAMP:20260420T203004
CREATED:20240129T093626Z
LAST-MODIFIED:20240129T093626Z
UID:2638-1718382600-1719790200@fcforward.ch
SUMMARY:EURO 2024
DESCRIPTION:Diffusion des matchs de l’équipe de Suisse ainsi que certain grand match
URL:https://fcforward.ch/event/euro-2024/
LOCATION:Parc des Sports\, Prom. Général Guisan 12\, Morges\, Vaud\, 1110\, Suisse
CATEGORIES:CALENDRIER MANIFESTATIONS
END:VEVENT
END:VCALENDAR